BEGIN:VCALENDAR
VERSION:2.0
PRODID:-//Keiretsu Forum Northwest & Rockies//Silkstart Technology Inc.//
BEGIN:VTIMEZONE
TZID:US/Mountain
BEGIN:DAYLIGHT
DTSTART;VALUE=DATE-TIME:20260308T020000
TZNAME:MDT
TZOFFSETFROM:-0700
TZOFFSETTO:-0600
END:DAYLIGHT
BEGIN:STANDARD
DTSTART;VALUE=DATE-TIME:20261101T020000
TZNAME:MST
TZOFFSETFROM:-0600
TZOFFSETTO:-0700
END:STANDARD
END:VTIMEZONE
BEGIN:VEVENT
SUMMARY:Rockies Investor Capital Expo VIP Reception (Invite Only)
DTSTART;TZID=US/Mountain;VALUE=DATE-TIME:20260617T170000
DTEND;TZID=US/Mountain;VALUE=DATE-TIME:20260617T200000
DTSTAMP;VALUE=DATE-TIME:20260422T233401
UID:69e95ae957912605efa32f1f
DESCRIPTION: Keiretsu Forum Rockies Investor Capital Expo VIP Reception at 
 Elevated Rooftop Event Space - Rooftop1630 1630 Welton St Denver\, CO 
 80202 Google Maps Link This is an invitation only private event - please 
 reach out to request an invitation to attend or to join the wait list as 
 space is limited. Join us to celebrate and experience the past\, present\,
  and future of our innovation EcoSystem at the Rockies Investor Capital 
 Expo VIP Reception. When it comes to our mission of empowering our 
 EcoSystem to achieve more\, it&rsquo\;s all about the journey. Where 
 we&rsquo\;ve been\, where we are\, and where we&rsquo\;re headed. 
 We&rsquo\;re excited to take you on that journey to see the latest 
 technology and explore the future of our global collaboration community. 
 You are cordially invited to join us for our Rockies Investor Capital Expo
  VIP Reception to celebrate our community the night before the Rockies 
 Investor Capital Expo. For the six year in a row\, Keiretsu Forum was 
 recognized by PitchBook as the #1 &ldquo\;most active global angel 
 investor group by deal count.&rdquo\; We invite you to join Keiretsu Forum
  members\, presenting company CEOs\, supporting sponsors\, and special 
 guests in an exciting night of celebration prior to the Rockies Investor 
 Capital Expo. Guests and Spouses are welcome and encouraged to attend! 
 Please register below. Registration: Register above to attend the Rockies 
 Investor Capital Expo VIP Reception or email Sanya Sood at 
 sanya@k4northwest.com or at 425.532.5520. Time/Date: Wednesday\, June 
 17th\, 2026\, from 5:00 to 8:00 PM MT Location Elevated Rooftop Event 
 Space - Rooftop1630 1630 Welton St Denver\, CO 80202 Google Maps Link 
 Attire: Cocktail / Business Attire If you have any questions\, please do 
 not hesitate to call Lenin Fernandes (206) 737-3123 or via email to 
 lenin@k4northwest.com or Stephanie Haaf (206) 529-3687 or via email to 
 shaaf@keiretsuforum.com. We are excited to see you at the Investor Capital
  Expo! Sponsors: Traveling from out of town? Click here to view our hotel 
 recommendations list. Hotel Recommendation List ---------- Member or 
 invited guest? Log In to RSVP for events. New to Keiretsu? Register 
 first\, then you can RSVP for events. *If you have a promotional code\, 
 enter it first and then select your ticket type &amp\; amount.* Forgot 
 your password? Click Here to reset your password with your email address. 
 Questions? Please call (206) 529-3687 or email lenin@k4northwest.com. 
LOCATION:1630 Welton St\, Denver\, CO 80202\, USA
PRIORITY:5
URL:https://www.k4northwest.com:443/events/rockies-investor-capital-expo-
 vip-reception-invite-only
END:VEVENT
END:VCALENDAR
